{
 "currentVersion": 10.91,
 "serviceDescription": "DEM/DEM_Network_Wide",
 "name": "DEM/DEM_Network_Wide",
 "description": "",
 "extent": {
  "xmin": 223304.01234890698,
  "ymin": 4799652.677057507,
  "xmax": 354233.51234890695,
  "ymax": 4914896.177057507,
  "spatialReference": {
   "wkid": 2147,
   "latestWkid": 2952
  }
 },
 "initialExtent": {
  "xmin": 223304.01234890698,
  "ymin": 4799652.677057507,
  "xmax": 354233.51234890695,
  "ymax": 4914896.177057507,
  "spatialReference": {
   "wkid": 2147,
   "latestWkid": 2952
  }
 },
 "fullExtent": {
  "xmin": 223304.01234890698,
  "ymin": 4799652.677057507,
  "xmax": 354233.51234890695,
  "ymax": 4914896.177057507,
  "spatialReference": {
   "wkid": 2147,
   "latestWkid": 2952
  }
 },
 "hasMultidimensions": false,
 "pixelSizeX": 0.4999999999999999,
 "pixelSizeY": 0.5,
 "datasetFormat": "FGDBR",
 "uncompressedSize": 241420381332,
 "blockWidth": 128,
 "blockHeight": 128,
 "compressionType": "LZ77",
 "bandNames": [
  "Band_1"
 ],
 "allowCopy": true,
 "allowAnalysis": true,
 "bandCount": 1,
 "pixelType": "F32",
 "minPixelSize": 0,
 "maxPixelSize": 0,
 "copyrightText": "",
 "serviceDataType": "esriImageServiceDataTypeGeneric",
 "serviceSourceType": "esriImageServiceSourceTypeDataset",
 "minValues": [
  70.32575225830078
 ],
 "maxValues": [
  376.0301208496094
 ],
 "meanValues": [
  164.65776728313475
 ],
 "stdvValues": [
  83.88463563046686
 ],
 "objectIdField": "",
 "fields": [],
 "capabilities": "Mensuration,Image,Metadata",
 "defaultMosaicMethod": "Center",
 "allowedMosaicMethods": "",
 "sortField": "",
 "sortValue": null,
 "sortAscending": true,
 "mosaicOperator": "First",
 "defaultCompressionQuality": 75,
 "defaultResamplingMethod": "Bilinear",
 "maxImageHeight": 4100,
 "maxImageWidth": 15000,
 "allowRasterFunction": true,
 "rasterFunctionInfos": [
  {
   "name": "None",
   "description": "",
   "help": ""
  }
 ],
 "rasterTypeInfos": [
  {
   "name": "Raster Dataset",
   "description": "Supports all ArcGIS Raster Datasets",
   "help": ""
  }
 ],
 "mensurationCapabilities": "Basic",
 "hasHistograms": true,
 "hasColormap": false,
 "hasRasterAttributeTable": false,
 "minScale": 0,
 "maxScale": 0,
 "exportTilesAllowed": false,
 "supportsStatistics": false,
 "supportsAdvancedQueries": false,
 "editFieldsInfo": null,
 "ownershipBasedAccessControlForRasters": null,
 "allowComputeTiePoints": false,
 "useStandardizedQueries": true,
 "advancedQueryCapabilities": {
  "useStandardizedQueries": true,
  "supportsStatistics": false,
  "supportsOrderBy": false,
  "supportsDistinct": false,
  "supportsPagination": false
 },
 "spatialReference": {
  "wkid": 2147,
  "latestWkid": 2952
 }
}
