View In:
ArcGIS JavaScript
ArcGIS Online Map Viewer
ArcGIS Earth
ArcMap
View Footprint In:
ArcGIS Online Map Viewer
Service Description: DEM/DEM_Network_Wide
Name: DEM/DEM_Network_Wide
Description:
Single Fused Map Cache: false
Extent:
XMin: 223304.01234890698
YMin: 4799652.677057507
XMax: 354233.51234890695
YMax: 4914896.177057507
Spatial Reference: 2147
(2952)
LatestVCSWkid(0)
Initial Extent:
XMin: 223304.01234890698
YMin: 4799652.677057507
XMax: 354233.51234890695
YMax: 4914896.177057507
Spatial Reference: 2147
(2952)
LatestVCSWkid(0)
Full Extent:
XMin: 223304.01234890698
YMin: 4799652.677057507
XMax: 354233.51234890695
YMax: 4914896.177057507
Spatial Reference: 2147
(2952)
LatestVCSWkid(0)
Pixel Size X: 0.4999999999999999
Pixel Size Y: 0.5
Band Count: 1
Pixel Type: F32
RasterFunction Infos: {"rasterFunctionInfos": [{
"name": "None",
"description": "",
"help": ""
}]}
Mensuration Capabilities: Basic
Has Histograms: true
Has Colormap: false
Has Multi Dimensions : false
Rendering Rule:
Min Scale: 0
Max Scale: 0
Copyright Text:
Service Data Type: esriImageServiceDataTypeGeneric
Min Values: 70.32575225830078
Max Values: 376.0301208496094
Mean Values: 164.65776728313475
Standard Deviation Values: 83.88463563046686
Object ID Field:
Fields:
None
Default Mosaic Method: Center
Allowed Mosaic Methods:
SortField:
SortValue: null
Mosaic Operator: First
Default Compression Quality: 75
Default Resampling Method: Bilinear
Max Record Count: null
Max Image Height: 4100
Max Image Width: 15000
Max Download Image Count: null
Max Mosaic Image Count: null
Allow Raster Function: true
Allow Copy: true
Allow Analysis: true
Allow Compute TiePoints: false
Supports Statistics: false
Supports Advanced Queries: false
Use StandardizedQueries: true
Raster Type Infos:
Name: Raster Dataset
Description: Supports all ArcGIS Raster Datasets
Help:
Has Raster Attribute Table: false
Edit Fields Info: null
Ownership Based AccessControl For Rasters: null
Child Resources:
Info
Histograms
Statistics
Key Properties
Legend
Raster Function Infos
Supported Operations:
Export Image
Identify
Measure
Compute Histograms
Compute Statistics Histograms
Get Samples
Compute Class Statistics
Query Boundary
Compute Pixel Location
Compute Angles
Validate
Project